BEGIN:VCALENDAR
VERSION:2.0
PRODID:-//Healing Awareness Week - ECPv6.15.15//NONSGML v1.0//EN
CALSCALE:GREGORIAN
METHOD:PUBLISH
X-ORIGINAL-URL:https://healingawarenessweek.com
X-WR-CALDESC:Events for Healing Awareness Week
REFRESH-INTERVAL;VALUE=DURATION:PT1H
X-Robots-Tag:noindex
X-PUBLISHED-TTL:PT1H
BEGIN:VTIMEZONE
TZID:UTC
BEGIN:STANDARD
TZOFFSETFROM:+0000
TZOFFSETTO:+0000
TZNAME:UTC
DTSTART:20250101T000000
END:STANDARD
END:VTIMEZONE
BEGIN:VEVENT
DTSTART;TZID=UTC:20260504T080000
DTEND;TZID=UTC:20260510T090000
DTSTAMP:20260419T172043
CREATED:20260313T114037Z
LAST-MODIFIED:20260320T155951Z
UID:1390-1777881600-1778403600@healingawarenessweek.com
SUMMARY:Daily Morning Meditation with Jeanette Wilson
DESCRIPTION:Join Jeanette for a daily morning meditation via Sangha Online Spiritual Community on Facebook. (Please search for the group: Sangha Online Spiritual Community with Jeanette Wilson\, and join the group on Facebook before the session starts) \nIt will start every morning from Monday 4th May to Sunday 10th May on Healing Awareness Week from 8am.
URL:https://healingawarenessweek.com/event/daily-morning-meditation-with-jeanette-wilson/
LOCATION:Lupton House\, Lupton House\, Brixham Road\, Brixham\, TQ5 0LD\, United Kingdom
CATEGORIES:Online event
ATTACH;FMTTYPE=image/png:https://healingawarenessweek.com/wp-content/uploads/2026/02/4.png
ORGANIZER;CN="Lupton House":MAILTO:janet@discoverlupton.com
END:VEVENT
BEGIN:VEVENT
DTSTART;TZID=UTC:20260505T100000
DTEND;TZID=UTC:20260505T113000
DTSTAMP:20260419T172043
CREATED:20260416T112800Z
LAST-MODIFIED:20260416T112800Z
UID:1518-1777975200-1777980600@healingawarenessweek.com
SUMMARY:Estelle Roberts Presentation with Lorna Harper DSNUHa
DESCRIPTION:Learn about British medium Estelle Roberts and her life over 50 years as a medium\, with mention of Red Cloud and her Spirit Guides. She regularly filled the Royal Albert Hall with special evenings and more. \nTuesday 5th May  10am – 11.30am \nOrganised by SNU Healing Committee for Healing Awareness Week \nThis is an online event via Zoom link:  ZOOM ID: 941 3690 4211  PASSWORD:  healing \n 
URL:https://healingawarenessweek.com/event/estelle-roberts-presentation-with-lorna-harper-dsnuha/
CATEGORIES:Online event
ATTACH;FMTTYPE=image/jpeg:https://healingawarenessweek.com/wp-content/uploads/2026/04/Estelle-Roberts-pic.jpg
END:VEVENT
BEGIN:VEVENT
DTSTART;TZID=UTC:20260505T110000
DTEND;TZID=UTC:20260505T123000
DTSTAMP:20260419T172043
CREATED:20260415T114708Z
LAST-MODIFIED:20260415T115345Z
UID:1505-1777978800-1777984200@healingawarenessweek.com
SUMMARY:One to One Healing Sessions (New Lands\, East Hampshire)
DESCRIPTION:Every act of kindness\, however small\, sends a ripple outward.  Join in for some warm hearted company in a relaxed and informal coffee morning.  Drop in by yourself or bring a friend along\, enjoy a cup of coffee and a cake. Refreshments are by donation\, which will support Healing Awareness Week to help healers and healing centres offer more healing sessions to the public as a community support. \nYou will meet friendly people in a peaceful and welcoming setting where kindness is the order of the day. \nEveryone is welcome\, whether you are a familiar face or visiting for the first time. There will be an opportunity to experience a session of contact healing if you would like to stay. *White Eagle Contact Healing is always offered free of charge* \nDonations received will go towards Healing Awareness Week \nThis is an in person event on Tuesday 5th May 11am -12.30pm at  White Eagle Lodge\, Temple Meeting Room\, New Lands\, Brewell Lane\, Liss\, GU33 7HY \nFor more information please email: contacthealing@white-eagle.org.uk
URL:https://healingawarenessweek.com/event/one-to-one-healing-sessions-new-lands-east-hampshire/
LOCATION:White Eagle Lodge\, White Eagle Lodge\, Newlands\, Brewells Ln.\, Hampshire\, GU33 7HY\, United Kingdom
CATEGORIES:In person event
ATTACH;FMTTYPE=image/jpeg:https://healingawarenessweek.com/wp-content/uploads/2026/04/A-cup-of-kindness.jpg
ORGANIZER;CN="White Eagle Lodge":MAILTO:contacthealing@white-eagle.org.uk
END:VEVENT
BEGIN:VEVENT
DTSTART;TZID=UTC:20260505T120000
DTEND;TZID=UTC:20260505T190000
DTSTAMP:20260419T172043
CREATED:20260213T120222Z
LAST-MODIFIED:20260409T124902Z
UID:1180-1777982400-1778007600@healingawarenessweek.com
SUMMARY:One to One Healing Sessions (Brixham\, Devon)
DESCRIPTION:Healing is the oldest and most natural form of non-invasive support for Wellness of the body. Many people who receive healing claim it to be a wonderful and life changing experience. Healing can be given sat in a chair or on a therapy bed. \nHealing is available on Tuesday 5th May from 12pm -7pm.  Sessions will last approx 30 minutes and payment by donation to Healing Awareness Week with thanks. \nThis is an in-person event in Devon and booking is essential. \nTo book your place please call 01803 845800 or email: janet@discoverlupton.com
URL:https://healingawarenessweek.com/event/one-to-one-healing-sessions/
LOCATION:Lupton House\, Lupton House\, Brixham Road\, Brixham\, TQ5 0LD\, United Kingdom
CATEGORIES:In person event
ATTACH;FMTTYPE=image/png:https://healingawarenessweek.com/wp-content/uploads/2026/02/9.png
ORGANIZER;CN="Lupton House":MAILTO:janet@discoverlupton.com
END:VEVENT
BEGIN:VEVENT
DTSTART;TZID=UTC:20260505T183000
DTEND;TZID=UTC:20260505T200000
DTSTAMP:20260419T172043
CREATED:20260320T145647Z
LAST-MODIFIED:20260416T092824Z
UID:1417-1778005800-1778011200@healingawarenessweek.com
SUMMARY:Meditation for Managing Pain & Suffering ***NOW FULLY BOOKED***
DESCRIPTION:Meditation for pain management employs mindfulness to alter our perception of discomfort\, aiding in stress reduction and emotional regulation. Key techniques involve body scans\, breath awareness and observing sensations without judgement\, which can lessen pain and enhance quality of life. \nThe Nature of Suffering \, while life’s challenges are unavoidable\, our responses are within our control. As Buddhism states\, “Pain is inevitable\, but suffering is optional.”  Could it be that suffering can be managed and does not always have to accompany pain? \nHeld on Tuesday 5th May from 6.30pm – 8pm \nTo book your place please contact Cheryl at:  cheryl.j@btinternet.com \nAll proceeds donated to Healing Awareness Week\, to donate please go to:  https://healingawarenessweek.com/donate/     or donate at the centre on the day. \nThis is an in-person event held with Feroze Dada at The Sylvan Healing Sanctuary\, 160A Hoppers Road\, London\, N21 3LA
URL:https://healingawarenessweek.com/event/meditation-for-managing-pain-suffering/
LOCATION:The Sylvan Healing Sanctuary\, 160A Hoppers Lane\, London\, London\, N21 3LA\, United Kingdom
CATEGORIES:In person event
ATTACH;FMTTYPE=image/jpeg:https://healingawarenessweek.com/wp-content/uploads/2026/03/Meditation-for-Managing-Pain-Suffering.jpg
ORGANIZER;CN="The Sylvan Healing Sanctuary":MAILTO:cheryl.j@btinternet.com
END:VEVENT
BEGIN:VEVENT
DTSTART;TZID=UTC:20260505T190000
DTEND;TZID=UTC:20260505T213000
DTSTAMP:20260419T172043
CREATED:20260209T182811Z
LAST-MODIFIED:20260313T110727Z
UID:1090-1778007600-1778016600@healingawarenessweek.com
SUMMARY:Healing Breakthroughs
DESCRIPTION:An evening dedicated to releasing what no longer serves you and creating space for transformation.This session combines healing techniques\, reflection and guided processes to help you shift emotional blocks\, gain clarity and move forward feeling lighter and empowered. Perfect for anyone ready for change and personal growth.  As seen on Sky TV\, see videos on Jeanette Wilson – YouTube \nThis workshop takes place in person at Lupton House in Devon \nTo book your place please call 01803 845800 or email: leanne@discoverlupton.com
URL:https://healingawarenessweek.com/event/healing-breakthroughs/
LOCATION:Lupton House\, Lupton House\, Brixham Road\, Brixham\, TQ5 0LD\, United Kingdom
CATEGORIES:In person event
ATTACH;FMTTYPE=image/jpeg:https://healingawarenessweek.com/wp-content/uploads/2026/02/Healing-Breakthroughs-Landscape-JW.jpeg
END:VEVENT
END:VCALENDAR