BEGIN:VCALENDAR
VERSION:2.0
PRODID:-//Healing Awareness Week - ECPv6.15.15//NONSGML v1.0//EN
CALSCALE:GREGORIAN
METHOD:PUBLISH
X-WR-CALNAME:Healing Awareness Week
X-ORIGINAL-URL:https://healingawarenessweek.com
X-WR-CALDESC:Events for Healing Awareness Week
REFRESH-INTERVAL;VALUE=DURATION:PT1H
X-Robots-Tag:noindex
X-PUBLISHED-TTL:PT1H
BEGIN:VTIMEZONE
TZID:UTC
BEGIN:STANDARD
TZOFFSETFROM:+0000
TZOFFSETTO:+0000
TZNAME:UTC
DTSTART:20250101T000000
END:STANDARD
END:VTIMEZONE
BEGIN:VEVENT
DTSTART;TZID=UTC:20260504T080000
DTEND;TZID=UTC:20260510T090000
DTSTAMP:20260419T170807
CREATED:20260313T114037Z
LAST-MODIFIED:20260320T155951Z
UID:1390-1777881600-1778403600@healingawarenessweek.com
SUMMARY:Daily Morning Meditation with Jeanette Wilson
DESCRIPTION:Join Jeanette for a daily morning meditation via Sangha Online Spiritual Community on Facebook. (Please search for the group: Sangha Online Spiritual Community with Jeanette Wilson\, and join the group on Facebook before the session starts) \nIt will start every morning from Monday 4th May to Sunday 10th May on Healing Awareness Week from 8am.
URL:https://healingawarenessweek.com/event/daily-morning-meditation-with-jeanette-wilson/
LOCATION:Lupton House\, Lupton House\, Brixham Road\, Brixham\, TQ5 0LD\, United Kingdom
CATEGORIES:Online event
ATTACH;FMTTYPE=image/png:https://healingawarenessweek.com/wp-content/uploads/2026/02/4.png
ORGANIZER;CN="Lupton House":MAILTO:janet@discoverlupton.com
END:VEVENT
BEGIN:VEVENT
DTSTART;TZID=UTC:20260507T100000
DTEND;TZID=UTC:20260507T110000
DTSTAMP:20260419T170807
CREATED:20260325T131014Z
LAST-MODIFIED:20260402T101133Z
UID:1439-1778148000-1778151600@healingawarenessweek.com
SUMMARY:Colour Meditation with Kathryn Crossley OSNU
DESCRIPTION:Colour meditation with Kathryn Crossley\, organised by SNU Healing Committee for Healing Awareness Week \nThursday 7th May from 10am – 11am \nThis is an online event via Zoom\, please login via this link: \nZoom ID  941 3690 4211    Password:  healing
URL:https://healingawarenessweek.com/event/colour-meditation-with-kathryn-crossley-osnu/
CATEGORIES:Online event
ATTACH;FMTTYPE=image/webp:https://healingawarenessweek.com/wp-content/uploads/2026/03/Colour-meditation-pic.webp
END:VEVENT
BEGIN:VEVENT
DTSTART;TZID=UTC:20260507T140000
DTEND;TZID=UTC:20260507T150000
DTSTAMP:20260419T170807
CREATED:20260410T101710Z
LAST-MODIFIED:20260410T101710Z
UID:1492-1778162400-1778166000@healingawarenessweek.com
SUMMARY:Healing Philosophy with Sue Tabbrett DSNUH
DESCRIPTION:Join Sue Tabbrett for Healing Philosophy \nThursday 7th May  2pm – 3pm \nThis is an online Zoom event via link:   ZOOM ID 941 3690 4211   PASSWORD:  healing \nAll proceeds go to Healing Awareness Week
URL:https://healingawarenessweek.com/event/healing-philosophy-with-sue-tabbrett-dsnuh/
CATEGORIES:Online event
ATTACH;FMTTYPE=image/jpeg:https://healingawarenessweek.com/wp-content/uploads/2026/04/Healing-Philosophy-pic.jpg
END:VEVENT
BEGIN:VEVENT
DTSTART;TZID=UTC:20260507T143000
DTEND;TZID=UTC:20260507T160000
DTSTAMP:20260419T170807
CREATED:20260213T121003Z
LAST-MODIFIED:20260220T101637Z
UID:1184-1778164200-1778169600@healingawarenessweek.com
SUMMARY:Spirit Surgery demonstration with Spirit Surgeon Dr John
DESCRIPTION:An opportunity to witness the Spirit World in action with Nick Humphries and Spirit Surgeon Dr William Fisher-Favell\, known as Dr John. \nNick will invite his Spirit Surgeon\, Dr John\, to demonstrate a session of Spirit Surgery and healing. \nThis is an in-person event at Lupton House in Devon \nCost is £25 and booking is essential \nPlease call the Lupton office on 01803 845800 to book your place or email leanne@discoverlupton.com \n 
URL:https://healingawarenessweek.com/event/psychic-surgery-demonstration-with-spirit-surgeon-dr-john/
LOCATION:Lupton House\, Lupton House\, Brixham Road\, Brixham\, TQ5 0LD\, United Kingdom
CATEGORIES:In person event
ATTACH;FMTTYPE=image/png:https://healingawarenessweek.com/wp-content/uploads/2026/02/Events-Images-HAW-Website.png
ORGANIZER;CN="Nick Humphries":MAILTO:nick@discoverlupton.com
END:VEVENT
BEGIN:VEVENT
DTSTART;TZID=UTC:20260507T170000
DTEND;TZID=UTC:20260507T183000
DTSTAMP:20260419T170807
CREATED:20260313T123257Z
LAST-MODIFIED:20260325T122558Z
UID:1396-1778173200-1778178600@healingawarenessweek.com
SUMMARY:One to One Healing Sessions (Bristol)
DESCRIPTION:Bristol Healing Group has been providing a healing service in Redland\, Bristol for thirty years and is registered as a Healing Trust Associated Centre. Our healers are caring and professional and welcome everyone seeking wellbeing support. \nThese are a few comments from people who have visited us for healing: “Calm and relaxing”\, “Felt a sense of trust and comfort”\, “I feel restored”\, “Healing works wonders”\, “Lovely and peaceful”\, “So restful”\, “Felt very gentle yet powerful and relaxing”\, “Healing feeling is incredible”\, “A wonderful healing experience”.  \nJoin them for a drop-in healing session at Bristol Healing Group (Healing Trust Associated Centre) for relaxation and wellbeing. Restore balance to body\, mind and spirit. Feel more peaceful\, calmer and more present. One-to-one chair healing with trained spiritual healers and/or reiki healers. Healing is given using a light touch or\, if preferred\, without touch and takes around 20 minutes. \nHealing is available at the drop in centre on Thursday 7th May from 5pm – 6.30pm\, at Redland Quaker Meeting House\, 126 Hampton Road\, Redland\, Bristol BS6 6JE. No need to book just turn up. \nPayment by donation to Healing Awareness Week with thanks. \nThis is an in-person event in Bristol. \nPlease do come and try healing during Healing Awareness Week and experience the benefits for yourself. \nFor more information please call 01179 466434 or email selinanewton@yahoo.co.uk
URL:https://healingawarenessweek.com/event/one-to-one-healing-sessions-2/
LOCATION:Bristol Healing Group\, 126 Hampton Road\, Bristol\, Bristol\, BS6 6JE\, United Kingdom
CATEGORIES:In person event
ATTACH;FMTTYPE=image/jpeg:https://healingawarenessweek.com/wp-content/uploads/2026/03/Bristol-Healing-Centre-pic.jpg
ORGANIZER;CN="Lupton House":MAILTO:janet@discoverlupton.com
END:VEVENT
BEGIN:VEVENT
DTSTART;TZID=UTC:20260507T190000
DTEND;TZID=UTC:20260507T210000
DTSTAMP:20260419T170807
CREATED:20260316T125747Z
LAST-MODIFIED:20260318T131006Z
UID:1403-1778180400-1778187600@healingawarenessweek.com
SUMMARY:Soulful Thursday with Natural Destiny Limited
DESCRIPTION:7pm – Group discussion and healing \n8pm – Meditation on Twin Hearts (age 16+) \nOpen to all and no registration needed\, donations to be made to –   https://healingawarenessweek.com/donate/ \nThis is an online event via Zoom   https://us02web.zoom.us/j/550049257 \nFor more information please contact Rohit Sujanani on 07984 679387 or email healingwithrohit@gmail.com
URL:https://healingawarenessweek.com/event/soulful-thursday-with-natural-destiny-limited/
CATEGORIES:Online event
ATTACH;FMTTYPE=image/jpeg:https://healingawarenessweek.com/wp-content/uploads/2026/03/Healing-pic.jpg
ORGANIZER;CN="Rohit Sujanani":MAILTO:healingwithrohit@gmail.com
END:VEVENT
BEGIN:VEVENT
DTSTART;TZID=UTC:20260507T193000
DTEND;TZID=UTC:20260507T203000
DTSTAMP:20260419T170807
CREATED:20260410T102243Z
LAST-MODIFIED:20260410T102243Z
UID:1496-1778182200-1778185800@healingawarenessweek.com
SUMMARY:Healing Service with SNU Healing Committee & Volunteers
DESCRIPTION:Join the SNU Healing Committee and volunteers for a Healing Service \nThursday 7th May from 7.30pm – 8.30pm \nThis is an online event via Zoom link:  ZOOM ID  941 3690 4211   PASSWORD:  healing \nAll proceeds to go to Healing Awareness Week with gratitude
URL:https://healingawarenessweek.com/event/healing-service-with-snu-healing-committee-volunteers/
CATEGORIES:Online event
ATTACH;FMTTYPE=image/jpeg:https://healingawarenessweek.com/wp-content/uploads/2026/04/Healing-Service.jpg
END:VEVENT
END:VCALENDAR