BEGIN:VCALENDAR
VERSION:2.0
PRODID:-//Healing Awareness Week - ECPv6.15.15//NONSGML v1.0//EN
CALSCALE:GREGORIAN
METHOD:PUBLISH
X-ORIGINAL-URL:https://healingawarenessweek.com
X-WR-CALDESC:Events for Healing Awareness Week
REFRESH-INTERVAL;VALUE=DURATION:PT1H
X-Robots-Tag:noindex
X-PUBLISHED-TTL:PT1H
BEGIN:VTIMEZONE
TZID:UTC
BEGIN:STANDARD
TZOFFSETFROM:+0000
TZOFFSETTO:+0000
TZNAME:UTC
DTSTART:20250101T000000
END:STANDARD
END:VTIMEZONE
BEGIN:VEVENT
DTSTART;TZID=UTC:20260504T080000
DTEND;TZID=UTC:20260510T090000
DTSTAMP:20260419T171527
CREATED:20260313T114037Z
LAST-MODIFIED:20260320T155951Z
UID:1390-1777881600-1778403600@healingawarenessweek.com
SUMMARY:Daily Morning Meditation with Jeanette Wilson
DESCRIPTION:Join Jeanette for a daily morning meditation via Sangha Online Spiritual Community on Facebook. (Please search for the group: Sangha Online Spiritual Community with Jeanette Wilson\, and join the group on Facebook before the session starts) \nIt will start every morning from Monday 4th May to Sunday 10th May on Healing Awareness Week from 8am.
URL:https://healingawarenessweek.com/event/daily-morning-meditation-with-jeanette-wilson/
LOCATION:Lupton House\, Lupton House\, Brixham Road\, Brixham\, TQ5 0LD\, United Kingdom
CATEGORIES:Online event
ATTACH;FMTTYPE=image/png:https://healingawarenessweek.com/wp-content/uploads/2026/02/4.png
ORGANIZER;CN="Lupton House":MAILTO:janet@discoverlupton.com
END:VEVENT
BEGIN:VEVENT
DTSTART;TZID=UTC:20260509T100000
DTEND;TZID=UTC:20260510T170000
DTSTAMP:20260419T171527
CREATED:20260313T111843Z
LAST-MODIFIED:20260313T115127Z
UID:1383-1778320800-1778432400@healingawarenessweek.com
SUMMARY:Healing with Spirit Doctors Level 1 with Jeanette Wilson
DESCRIPTION:Meet the Spirit Doctors that work through Jeanette and experience them moving your body to heal others \nFor further information or to book please visit https://www.jeanettewilson.co.uk/event-list \nThis is an in person workshop at Lupton House
URL:https://healingawarenessweek.com/event/healing-with-spirit-doctors-level-1-with-jeanette-wilson/
LOCATION:Lupton House\, Lupton House\, Brixham Road\, Brixham\, TQ5 0LD\, United Kingdom
CATEGORIES:In person event
ATTACH;FMTTYPE=image/jpeg:https://healingawarenessweek.com/wp-content/uploads/2026/03/HWSD-1-JW.jpeg
ORGANIZER;CN="Lupton House":MAILTO:janet@discoverlupton.com
END:VEVENT
BEGIN:VEVENT
DTSTART;TZID=UTC:20260509T110000
DTEND;TZID=UTC:20260509T150000
DTSTAMP:20260419T171527
CREATED:20260410T100544Z
LAST-MODIFIED:20260410T100544Z
UID:1490-1778324400-1778338800@healingawarenessweek.com
SUMMARY:One to One Healing Sessions (Brixham\, Devon)
DESCRIPTION:Healing is the oldest and most natural form of non-invasive support for Wellness of the body. Many people who receive healing claim it to be a wonderful and life changing experience. Healing can be given sat in a chair or on a therapy bed. \nHealing is available on Saturday 9th May from 11am -3pm.  Sessions will last approx 30 minutes and payment by donation to Healing Awareness Week with thanks. \nThis is an in-person event in Devon and booking is essential. \nTo book your place please call 01803 845800 or email: janet@discoverlupton.com
URL:https://healingawarenessweek.com/event/one-to-one-healing-sessions-brixham-devon/
LOCATION:Lupton House\, Lupton House\, Brixham Road\, Brixham\, TQ5 0LD\, United Kingdom
CATEGORIES:In person event
ATTACH;FMTTYPE=image/png:https://healingawarenessweek.com/wp-content/uploads/2026/02/9.png
ORGANIZER;CN="Lupton House":MAILTO:janet@discoverlupton.com
END:VEVENT
BEGIN:VEVENT
DTSTART;TZID=UTC:20260509T123000
DTEND;TZID=UTC:20260509T133000
DTSTAMP:20260419T171527
CREATED:20260402T095648Z
LAST-MODIFIED:20260402T095648Z
UID:1470-1778329800-1778333400@healingawarenessweek.com
SUMMARY:Talk on Spiritualist Healing with Joy Hunter DSNUH
DESCRIPTION:Join Joy for a talk on Spiritualist Healing \nSaturday 9th May from 12.30pm – 1.30pm \nThis is an online event via Zoom\, please use this link:   ZOOM ID:  941 3690 4211    Password:  healing
URL:https://healingawarenessweek.com/event/talk-on-spiritualist-healing-with-joy-hunter-dsnuh/
CATEGORIES:Online event
ATTACH;FMTTYPE=image/jpeg:https://healingawarenessweek.com/wp-content/uploads/2026/04/Spiritual-Healing-pic.jpeg
END:VEVENT
END:VCALENDAR