BEGIN:VCALENDAR
VERSION:2.0
PRODID:-//Healing Awareness Week - ECPv6.15.15//NONSGML v1.0//EN
CALSCALE:GREGORIAN
METHOD:PUBLISH
X-ORIGINAL-URL:https://healingawarenessweek.com
X-WR-CALDESC:Events for Healing Awareness Week
REFRESH-INTERVAL;VALUE=DURATION:PT1H
X-Robots-Tag:noindex
X-PUBLISHED-TTL:PT1H
BEGIN:VTIMEZONE
TZID:UTC
BEGIN:STANDARD
TZOFFSETFROM:+0000
TZOFFSETTO:+0000
TZNAME:UTC
DTSTART:20250101T000000
END:STANDARD
END:VTIMEZONE
BEGIN:VEVENT
DTSTART;TZID=UTC:20260506T130000
DTEND;TZID=UTC:20260506T143000
DTSTAMP:20260419T125809
CREATED:20260211T141229Z
LAST-MODIFIED:20260409T130547Z
UID:1109-1778072400-1778077800@healingawarenessweek.com
SUMMARY:Healing Circle with Two Hawks - NOW FULLY BOOKED
DESCRIPTION:A rare opportunity to sit in the presence of the Spirit World in action \nWith Renowned International  Spirit Surgeon Nick Humphries \nNick will invite his Native American Spirit Guide\, Two Hawks\, to demonstrate a session of emotional cleansing \nThis is an in-person event at Lupton House in Devon \nWednesday 6th May from 1pm-2.30pm \nCost is £25 and booking is essential \nPlease call the Lupton office on 01803 845800 to book your place or email leanne@discoverlupton.com
URL:https://healingawarenessweek.com/event/healing-circle-with-two-hawks/
LOCATION:Lupton House\, Lupton House\, Brixham Road\, Brixham\, TQ5 0LD\, United Kingdom
CATEGORIES:Featured Events,In person event
ATTACH;FMTTYPE=image/png:https://healingawarenessweek.com/wp-content/uploads/2026/02/3.png
ORGANIZER;CN="Nick Humphries":MAILTO:nick@discoverlupton.com
END:VEVENT
BEGIN:VEVENT
DTSTART;TZID=UTC:20260506T140000
DTEND;TZID=UTC:20260506T153000
DTSTAMP:20260419T125809
CREATED:20260209T105812Z
LAST-MODIFIED:20260218T175158Z
UID:1035-1778076000-1778081400@healingawarenessweek.com
SUMMARY:Paws for Peace
DESCRIPTION:An outdoor healing gathering for you and your animal companion\, taking place at the summerhouse\, by the statue of St. Francis\, in New Lands garden. As part of Healing Awareness Week\, we’re inviting you to join us for a short healing service for dogs and their humans\, followed by a short group dog walk and outdoor refreshments. \nEnjoy time to connect\, and space to relax\, in the beautiful surroundings of New Lands estate. \n\nShare in a blessing of peace and healing for dogs\nSend healing energy to other animals\nMeet other dog lovers in a welcoming\, relaxed setting\nDogs will be kept on a lead at all times
URL:https://healingawarenessweek.com/event/paws-for-peace/
LOCATION:White Eagle Lodge\, White Eagle Lodge\, Newlands\, Brewells Ln.\, Hampshire\, GU33 7HY\, United Kingdom
CATEGORIES:Animal Healing,Featured Events,In person event
ATTACH;FMTTYPE=image/png:https://healingawarenessweek.com/wp-content/uploads/2026/02/6.png
END:VEVENT
BEGIN:VEVENT
DTSTART;TZID=UTC:20260510T110000
DTEND;TZID=UTC:20260510T150000
DTSTAMP:20260419T125809
CREATED:20260209T112718Z
LAST-MODIFIED:20260218T175238Z
UID:1041-1778410800-1778425200@healingawarenessweek.com
SUMMARY:Becoming a Healer
DESCRIPTION:This in-person\, introductory half-day offers a clear insight into the rewarding practice of distant healing\, and the use of light and colour as taught by the White Eagle Lodge. The event is for anyone who feels drawn to healing but is unsure what that really means in practice.   \nDesigned for complete beginners\, the welcoming half-day combines gentle teaching\, guided meditation\, and supported group practice\, helping you understand what healing is\, how it works\, and why so many people feel drawn to offer healing as a form of service.   \nBy the event’s close\, you can choose to register as a distant healer and receive ongoing support\, or take the learning into your life in your own way\, with no pressure to commit.
URL:https://healingawarenessweek.com/event/becoming-a-healer/
LOCATION:White Eagle Lodge\, White Eagle Lodge\, Newlands\, Brewells Ln.\, Hampshire\, GU33 7HY\, United Kingdom
CATEGORIES:Featured Events,In person event
ATTACH;FMTTYPE=image/png:https://healingawarenessweek.com/wp-content/uploads/2026/02/10-1.png
END:VEVENT
END:VCALENDAR