BEGIN:VCALENDAR
VERSION:2.0
PRODID:-//Healing Awareness Week - ECPv6.15.15//NONSGML v1.0//EN
CALSCALE:GREGORIAN
METHOD:PUBLISH
X-WR-CALNAME:Healing Awareness Week
X-ORIGINAL-URL:https://healingawarenessweek.com
X-WR-CALDESC:Events for Healing Awareness Week
REFRESH-INTERVAL;VALUE=DURATION:PT1H
X-Robots-Tag:noindex
X-PUBLISHED-TTL:PT1H
BEGIN:VTIMEZONE
TZID:UTC
BEGIN:STANDARD
TZOFFSETFROM:+0000
TZOFFSETTO:+0000
TZNAME:UTC
DTSTART:20250101T000000
END:STANDARD
END:VTIMEZONE
BEGIN:VEVENT
DTSTART;TZID=UTC:20260508T130000
DTEND;TZID=UTC:20260508T150000
DTSTAMP:20260419T172535
CREATED:20260213T103620Z
LAST-MODIFIED:20260312T122817Z
UID:1167-1778245200-1778252400@healingawarenessweek.com
SUMMARY:An Introduction to Neuro-Linguistic Programming for healers
DESCRIPTION:Unlock the power of NLP (Neuro-Linguistic Programming) with expert Jeanette Wilson.  Explore how we have been programmed-by ourselves and others-through language\, beliefs and experience\, and how understanding and shifting these patterns can strengthen our confidence as healers to help clients transform limiting beliefs to support deeper healing. \nThis is an in person workshop at Lupton HousePlease call the office on 01803 845800 or email: leanne@discoverlupton.com  to book.
URL:https://healingawarenessweek.com/event/an-introduction-to-natural-language-processing/
LOCATION:Lupton House\, Lupton House\, Brixham Road\, Brixham\, TQ5 0LD\, United Kingdom
CATEGORIES:In person event
ATTACH;FMTTYPE=image/png:https://healingawarenessweek.com/wp-content/uploads/2026/02/12-1.png
END:VEVENT
END:VCALENDAR