BEGIN:VCALENDAR
VERSION:2.0
PRODID:-//Healing Awareness Week - ECPv6.15.15//NONSGML v1.0//EN
CALSCALE:GREGORIAN
METHOD:PUBLISH
X-ORIGINAL-URL:https://healingawarenessweek.com
X-WR-CALDESC:Events for Healing Awareness Week
REFRESH-INTERVAL;VALUE=DURATION:PT1H
X-Robots-Tag:noindex
X-PUBLISHED-TTL:PT1H
BEGIN:VTIMEZONE
TZID:UTC
BEGIN:STANDARD
TZOFFSETFROM:+0000
TZOFFSETTO:+0000
TZNAME:UTC
DTSTART:20250101T000000
END:STANDARD
END:VTIMEZONE
BEGIN:VEVENT
DTSTART;TZID=UTC:20260504T080000
DTEND;TZID=UTC:20260510T084500
DTSTAMP:20260421T083722
CREATED:20260313T114037Z
LAST-MODIFIED:20260420T113620Z
UID:1390-1777881600-1778402700@healingawarenessweek.com
SUMMARY:Daily Morning Meditation with Jeanette Wilson
DESCRIPTION:Join Jeanette for a daily morning meditation via Sangha Online Spiritual Community on Facebook. (Please search for the group: Sangha Online Spiritual Community with Jeanette Wilson\, and join the group on Facebook before the session starts) \nIt will start every morning from Monday 4th May to Sunday 10th May on Healing Awareness Week from 8am till 8.45am
URL:https://healingawarenessweek.com/event/daily-morning-meditation-with-jeanette-wilson/
LOCATION:Lupton House\, Lupton House\, Brixham Road\, Brixham\, TQ5 0LD\, United Kingdom
CATEGORIES:Online event
ATTACH;FMTTYPE=image/png:https://healingawarenessweek.com/wp-content/uploads/2026/02/4.png
ORGANIZER;CN="Lupton House":MAILTO:janet@discoverlupton.com
END:VEVENT
BEGIN:VEVENT
DTSTART;TZID=UTC:20260506T110000
DTEND;TZID=UTC:20260506T130000
DTSTAMP:20260421T083722
CREATED:20260416T113923Z
LAST-MODIFIED:20260416T133530Z
UID:1521-1778065200-1778072400@healingawarenessweek.com
SUMMARY:How do you connect with your Healing Team and the Divine Force
DESCRIPTION:Join Beverley Bryant & Ayleen Dixon (Australia) to discover how you connect with your Healing Team and the Divine Force \nWednesday 6th May   11am – 1pm (GMT) \nThis is an online event via Zoom link:  ZOOM ID:  941 3690 4211   PASSWORD: healing \nOrganised by SNU Healing Committee for Healing Awareness Week
URL:https://healingawarenessweek.com/event/how-do-you-connect-with-your-healing-team-and-the-divine-force/
CATEGORIES:Online event
ATTACH;FMTTYPE=image/jpeg:https://healingawarenessweek.com/wp-content/uploads/2026/04/Connect-with-your-Healing-Team-1.jpg
END:VEVENT
BEGIN:VEVENT
DTSTART;TZID=UTC:20260506T143000
DTEND;TZID=UTC:20260506T163000
DTSTAMP:20260421T083722
CREATED:20260416T120948Z
LAST-MODIFIED:20260416T120948Z
UID:1524-1778077800-1778085000@healingawarenessweek.com
SUMMARY:Power of Intention with John Marr DSNUHa
DESCRIPTION:Discover the Power of Intention with John Marr \nWednesday 6th May  2.30pm – 4.30pm (GMT) \nThis is an online event via Zoom link:  ZOOM ID 941 3690 4211  PASSWORD: healing \nOrganised by SNU Healing Committee for Healing Awareness Week
URL:https://healingawarenessweek.com/event/power-of-intention-with-john-marr-dsnuha/
CATEGORIES:Online event
ATTACH;FMTTYPE=image/jpeg:https://healingawarenessweek.com/wp-content/uploads/2026/04/Power-of-Intention-pic.jpg
END:VEVENT
BEGIN:VEVENT
DTSTART;TZID=UTC:20260506T190000
DTEND;TZID=UTC:20260506T193000
DTSTAMP:20260421T083722
CREATED:20260205T150344Z
LAST-MODIFIED:20260216T123048Z
UID:870-1778094000-1778095800@healingawarenessweek.com
SUMMARY:Healing for Pets
DESCRIPTION:Could your pet do with some gentle healing support? Join us from your sofa with your animal companion for a relaxed online session of animal healing. You may notice the benefits yourself too. If your pet is too big (or too wriggly!) to join you on the sofa\, have a photo to hand. \nThe evening will close with a blessing for farmed and wild animals\, as well as endangered species.
URL:https://healingawarenessweek.com/event/paws-for-peace-an-outdoor-healing-gathering-for-you-and-your-dog-in-person/
CATEGORIES:Animal Healing,Online event
ATTACH;FMTTYPE=image/png:https://healingawarenessweek.com/wp-content/uploads/2026/02/1-1.png
END:VEVENT
BEGIN:VEVENT
DTSTART;TZID=UTC:20260506T190000
DTEND;TZID=UTC:20260506T200000
DTSTAMP:20260421T083722
CREATED:20260416T122237Z
LAST-MODIFIED:20260416T122237Z
UID:1528-1778094000-1778097600@healingawarenessweek.com
SUMMARY:Healing Meditation & How to Become a Spiritualist Healer
DESCRIPTION:With Hazel Middleton DSNUH ASNU and Sam Underwood CSNUha\, organised by SNU Healing Committee for Healing Awareness Week \nWednesday 6th May  7pm – 8pm (GMT) \nThis is an online event via Zoom link:  ZOOM ID: 941 3690 4211  PASSWORD: healing
URL:https://healingawarenessweek.com/event/healing-meditation-how-to-become-a-spiritualist-healer/
CATEGORIES:Online event
ATTACH;FMTTYPE=image/jpeg:https://healingawarenessweek.com/wp-content/uploads/2026/04/Healing-Meditation-pic.jpg
END:VEVENT
END:VCALENDAR