BEGIN:VCALENDAR
VERSION:2.0
PRODID:-//Healing Awareness Week - ECPv6.15.15//NONSGML v1.0//EN
CALSCALE:GREGORIAN
METHOD:PUBLISH
X-ORIGINAL-URL:https://healingawarenessweek.com
X-WR-CALDESC:Events for Healing Awareness Week
REFRESH-INTERVAL;VALUE=DURATION:PT1H
X-Robots-Tag:noindex
X-PUBLISHED-TTL:PT1H
BEGIN:VTIMEZONE
TZID:UTC
BEGIN:STANDARD
TZOFFSETFROM:+0000
TZOFFSETTO:+0000
TZNAME:UTC
DTSTART:20250101T000000
END:STANDARD
END:VTIMEZONE
BEGIN:VEVENT
DTSTART;TZID=UTC:20260510T190000
DTEND;TZID=UTC:20260510T210000
DTSTAMP:20260421T095827
CREATED:20260320T135853Z
LAST-MODIFIED:20260320T150853Z
UID:1415-1778439600-1778446800@healingawarenessweek.com
SUMMARY:Closing of Healing Awareness Week
DESCRIPTION:Join in for the closing ceremony of Healing Awareness Week \nSunday 10th May from 7pm – 9pm \nMore information to follow
URL:https://healingawarenessweek.com/event/closing-of-healing-awareness-week/
LOCATION:Lupton House\, Lupton House\, Brixham Road\, Brixham\, TQ5 0LD\, United Kingdom
CATEGORIES:Online event
ATTACH;FMTTYPE=image/jpeg:https://healingawarenessweek.com/wp-content/uploads/2026/03/HAW-Cloing-ceremony-pic-1.jpg
ORGANIZER;CN="Lupton House":MAILTO:janet@discoverlupton.com
END:VEVENT
END:VCALENDAR