BEGIN:VCALENDAR
VERSION:2.0
PRODID:-//Healing Awareness Week - ECPv6.15.20//NONSGML v1.0//EN
CALSCALE:GREGORIAN
METHOD:PUBLISH
X-WR-CALNAME:Healing Awareness Week
X-ORIGINAL-URL:https://healingawarenessweek.com
X-WR-CALDESC:Events for Healing Awareness Week
REFRESH-INTERVAL;VALUE=DURATION:PT1H
X-Robots-Tag:noindex
X-PUBLISHED-TTL:PT1H
BEGIN:VTIMEZONE
TZID:UTC
BEGIN:STANDARD
TZOFFSETFROM:+0000
TZOFFSETTO:+0000
TZNAME:UTC
DTSTART:20250101T000000
END:STANDARD
END:VTIMEZONE
BEGIN:VEVENT
DTSTART;TZID=UTC:20260504T100000
DTEND;TZID=UTC:20260504T120000
DTSTAMP:20260421T135914
CREATED:20260209T181550Z
LAST-MODIFIED:20260420T113849Z
UID:1081-1777888800-1777896000@healingawarenessweek.com
SUMMARY:Learn to REALLY Meditate with Jeanette Wilson
DESCRIPTION:Discover what is Ego and what is True Self in this powerful meditation practice \nThis event takes place in person at Lupton House in Devon \nMonday 4th May 10am – 12pm \nTo book your place please call 01803 845800 or email: leanne@discoverlupton.com
URL:https://healingawarenessweek.com/event/learn-to-meditate/
LOCATION:Lupton House\, Lupton House\, Brixham Road\, Brixham\, TQ5 0LD\, United Kingdom
CATEGORIES:In person event
ATTACH;FMTTYPE=image/jpeg:https://healingawarenessweek.com/wp-content/uploads/2026/02/Learn-to-Really-Meditate-pic-JW.jpeg
END:VEVENT
BEGIN:VEVENT
DTSTART;TZID=UTC:20260502T100000
DTEND;TZID=UTC:20260503T170000
DTSTAMP:20260421T135914
CREATED:20260313T112549Z
LAST-MODIFIED:20260420T115312Z
UID:1386-1777716000-1777827600@healingawarenessweek.com
SUMMARY:Healing with Spirit Doctors Level 2 with Jeanette Wilson
DESCRIPTION:After a minimum of 6 months practice of working with the Spirit Doctors\, meet and learn to communicate with your own team. \nSaturday 2nd May and Sunday 3rd May \nFor further information or to book please visit https://www.jeanettewilson.co.uk/event-list \nThis is an in person workshop at Lupton House
URL:https://healingawarenessweek.com/event/healing-with-spirit-doctors-level-2-with-jeanette-wilson/
LOCATION:Lupton House\, Lupton House\, Brixham Road\, Brixham\, TQ5 0LD\, United Kingdom
CATEGORIES:In person event
ATTACH;FMTTYPE=image/jpeg:https://healingawarenessweek.com/wp-content/uploads/2026/03/HWSD2.jpeg
ORGANIZER;CN="Lupton House":MAILTO:janet@discoverlupton.com
END:VEVENT
BEGIN:VEVENT
DTSTART;TZID=UTC:20260502T100000
DTEND;TZID=UTC:20260502T113000
DTSTAMP:20260421T135914
CREATED:20260415T134933Z
LAST-MODIFIED:20260416T130607Z
UID:1511-1777716000-1777721400@healingawarenessweek.com
SUMMARY:Attunement & Prayer
DESCRIPTION:Join Hazel Middleton DSNUH ASNU and Lorna Harper DSNUHa for Attunement and Prayer\, organised by SNU Healing Committee for Healing Awareness Week \nSaturday 2nd May  10am – 11.30am (GMT) \nThis is an online Zoom event via link:   Zoom ID  941 3690 4211   PASSWORD: healing
URL:https://healingawarenessweek.com/event/attunement-prayer/
CATEGORIES:Online event
ATTACH;FMTTYPE=image/jpeg:https://healingawarenessweek.com/wp-content/uploads/2026/04/Attunement-Prayer-poster-2.jpg
END:VEVENT
END:VCALENDAR